BEGIN:VCALENDAR
VERSION:2.0
PRODID:-//NHG Gymnastics - ECPv6.15.13//NONSGML v1.0//EN
CALSCALE:GREGORIAN
METHOD:PUBLISH
X-WR-CALNAME:NHG Gymnastics
X-ORIGINAL-URL:https://nhgym.co.nz
X-WR-CALDESC:Events for NHG Gymnastics
REFRESH-INTERVAL;VALUE=DURATION:PT1H
X-Robots-Tag:noindex
X-PUBLISHED-TTL:PT1H
BEGIN:VTIMEZONE
TZID:Pacific/Auckland
BEGIN:STANDARD
TZOFFSETFROM:+1300
TZOFFSETTO:+1200
TZNAME:NZST
DTSTART:20240406T140000
END:STANDARD
BEGIN:DAYLIGHT
TZOFFSETFROM:+1200
TZOFFSETTO:+1300
TZNAME:NZDT
DTSTART:20240928T140000
END:DAYLIGHT
BEGIN:STANDARD
TZOFFSETFROM:+1300
TZOFFSETTO:+1200
TZNAME:NZST
DTSTART:20250405T140000
END:STANDARD
BEGIN:DAYLIGHT
TZOFFSETFROM:+1200
TZOFFSETTO:+1300
TZNAME:NZDT
DTSTART:20250927T140000
END:DAYLIGHT
BEGIN:STANDARD
TZOFFSETFROM:+1300
TZOFFSETTO:+1200
TZNAME:NZST
DTSTART:20260404T140000
END:STANDARD
BEGIN:DAYLIGHT
TZOFFSETFROM:+1200
TZOFFSETTO:+1300
TZNAME:NZDT
DTSTART:20260926T140000
END:DAYLIGHT
END:VTIMEZONE
BEGIN:VEVENT
DTSTART;TZID=Pacific/Auckland:20250921T080000
DTEND;TZID=Pacific/Auckland:20250921T170000
DTSTAMP:20260421T004556
CREATED:20250529T073251Z
LAST-MODIFIED:20250529T073251Z
UID:46939-1758441600-1758474000@nhgym.co.nz
SUMMARY:NHG GYMFEST
DESCRIPTION:Rec\, Extension (All Codes)
URL:https://nhgym.co.nz/event/nhg-gymfest/
LOCATION:EventFinda Stadium\, 17 Silverfield\, Wairau Valley\, Auckland\, 0627\, New Zealand
END:VEVENT
BEGIN:VEVENT
DTSTART;TZID=Pacific/Auckland:20250726T180000
DTEND;TZID=Pacific/Auckland:20250726T210000
DTSTAMP:20260421T004556
CREATED:20250611T232838Z
LAST-MODIFIED:20250611T232838Z
UID:47145-1753552800-1753563600@nhgym.co.nz
SUMMARY:Squad Games Night
DESCRIPTION:Join us on Saturday 26th of July for a super fun\, excitement packed Games Night and help NHG Squad go to their international competition in Melbourne! \nOpen to members and non-members\, so spread the word and bring your friends! Open for 5+ yrs\, no prior gymnastics experience needed. Proceeds from this event will go towards our Squad Programme! \n\nGiant hungry hippo game\nDodge Ball\nObsacle Course\nNinja Course\nGymnastics activities\nAnd more!\n\n6-9pm at NHG Gymnastics at Eventfinda Stadium\nSnacks will be available for purchase at the canteen! \nPlease bring your email receipt as ticket to the event!
URL:https://nhgym.co.nz/event/squad-games-night/
LOCATION:EventFinda Stadium\, 17 Silverfield\, Wairau Valley\, Auckland\, 0627\, New Zealand
CATEGORIES:Fundraiser
END:VEVENT
BEGIN:VEVENT
DTSTART;TZID=Pacific/Auckland:20250713T080000
DTEND;TZID=Pacific/Auckland:20250713T170000
DTSTAMP:20260421T004556
CREATED:20250529T073215Z
LAST-MODIFIED:20250529T073215Z
UID:46937-1752393600-1752426000@nhgym.co.nz
SUMMARY:NHG Championships/RG Counties/Aus Nats TRA
DESCRIPTION:Program: WAG/MAG/Squad
URL:https://nhgym.co.nz/event/nhg-championships-rg-counties-aus-nats-tra/
LOCATION:EventFinda Stadium\, 17 Silverfield\, Wairau Valley\, Auckland\, 0627\, New Zealand
END:VEVENT
BEGIN:VEVENT
DTSTART;TZID=Pacific/Auckland:20250711T080000
DTEND;TZID=Pacific/Auckland:20250711T170000
DTSTAMP:20260421T004556
CREATED:20250529T073133Z
LAST-MODIFIED:20250529T073133Z
UID:46935-1752220800-1752253200@nhgym.co.nz
SUMMARY:NHG Championships/Aus Nats TRA
DESCRIPTION:
URL:https://nhgym.co.nz/event/nhg-championships-aus-nats-tra/
LOCATION:EventFinda Stadium\, 17 Silverfield\, Wairau Valley\, Auckland\, 0627\, New Zealand
END:VEVENT
BEGIN:VEVENT
DTSTART;TZID=Pacific/Auckland:20250608T080000
DTEND;TZID=Pacific/Auckland:20250608T170000
DTSTAMP:20260421T004556
CREATED:20250529T072948Z
LAST-MODIFIED:20250529T072959Z
UID:46931-1749369600-1749402000@nhgym.co.nz
SUMMARY:Boys Open assessment
DESCRIPTION:
URL:https://nhgym.co.nz/event/nhg-events-calendar-100-d162-boys-open-assessment-boys-open-assessment-turn-on-screen-reader-support-to-enable-screen-reader-support-press-ctrlaltz-to-learn-about-keyboard-shortcuts-pres/
LOCATION:EventFinda Stadium\, 17 Silverfield\, Wairau Valley\, Auckland\, 0627\, New Zealand
END:VEVENT
END:VCALENDAR